BEGIN:VCALENDAR
VERSION:2.0
PRODID:-//Elder Law at Ahrens DeAngeli Law Group - ECPv6.15.20//NONSGML v1.0//EN
CALSCALE:GREGORIAN
METHOD:PUBLISH
X-ORIGINAL-URL:https://idahoelderlaw.com
X-WR-CALDESC:Events for Elder Law at Ahrens DeAngeli Law Group
REFRESH-INTERVAL;VALUE=DURATION:PT1H
X-Robots-Tag:noindex
X-PUBLISHED-TTL:PT1H
BEGIN:VTIMEZONE
TZID:America/Boise
BEGIN:DAYLIGHT
TZOFFSETFROM:-0700
TZOFFSETTO:-0600
TZNAME:MDT
DTSTART:20140309T090000
END:DAYLIGHT
BEGIN:STANDARD
TZOFFSETFROM:-0600
TZOFFSETTO:-0700
TZNAME:MST
DTSTART:20141102T080000
END:STANDARD
BEGIN:DAYLIGHT
TZOFFSETFROM:-0700
TZOFFSETTO:-0600
TZNAME:MDT
DTSTART:20150308T090000
END:DAYLIGHT
BEGIN:STANDARD
TZOFFSETFROM:-0600
TZOFFSETTO:-0700
TZNAME:MST
DTSTART:20151101T080000
END:STANDARD
BEGIN:DAYLIGHT
TZOFFSETFROM:-0700
TZOFFSETTO:-0600
TZNAME:MDT
DTSTART:20160313T090000
END:DAYLIGHT
BEGIN:STANDARD
TZOFFSETFROM:-0600
TZOFFSETTO:-0700
TZNAME:MST
DTSTART:20161106T080000
END:STANDARD
BEGIN:DAYLIGHT
TZOFFSETFROM:-0700
TZOFFSETTO:-0600
TZNAME:MDT
DTSTART:20170312T090000
END:DAYLIGHT
BEGIN:STANDARD
TZOFFSETFROM:-0600
TZOFFSETTO:-0700
TZNAME:MST
DTSTART:20171105T080000
END:STANDARD
BEGIN:DAYLIGHT
TZOFFSETFROM:-0700
TZOFFSETTO:-0600
TZNAME:MDT
DTSTART:20180311T090000
END:DAYLIGHT
BEGIN:STANDARD
TZOFFSETFROM:-0600
TZOFFSETTO:-0700
TZNAME:MST
DTSTART:20181104T080000
END:STANDARD
BEGIN:DAYLIGHT
TZOFFSETFROM:-0700
TZOFFSETTO:-0600
TZNAME:MDT
DTSTART:20190310T090000
END:DAYLIGHT
BEGIN:STANDARD
TZOFFSETFROM:-0600
TZOFFSETTO:-0700
TZNAME:MST
DTSTART:20191103T080000
END:STANDARD
BEGIN:DAYLIGHT
TZOFFSETFROM:-0700
TZOFFSETTO:-0600
TZNAME:MDT
DTSTART:20200308T090000
END:DAYLIGHT
BEGIN:STANDARD
TZOFFSETFROM:-0600
TZOFFSETTO:-0700
TZNAME:MST
DTSTART:20201101T080000
END:STANDARD
END:VTIMEZONE
BEGIN:VEVENT
DTSTART;TZID=America/Boise:20190914T110000
DTEND;TZID=America/Boise:20190914T170000
DTSTAMP:20260424T094818
CREATED:20190729T190458Z
LAST-MODIFIED:20190729T212347Z
UID:14232-1568458800-1568480400@idahoelderlaw.com
SUMMARY:2019 Walk to End Alzheimer's - Eastern Idaho
DESCRIPTION:Elder Law at Ahrens DeAngeli Law Group will be at the Eastern Idaho\, Magic Valley\, and Treasure Valley Walks. Join our team to walk with us\, or donate to advance care\, support and research towards Alzheimer’s disease here. \nThe Eastern Idaho event is on September 14\, 2019\, at the Snake River Landing – Idaho Falls. Registration begins at 10 am\, ceremony at 11 am\, and walk at 11:30 am. If you have questions about event details\, please contact Alix Hilton at (208)206-0041 or at alhilton@alz.org. \nVisit 2019 Walk to End Alzheimer’s – Eastern Idaho to learn more about the walk\, and the Alzheimer’s Association’s work to end Alzheimer’s.
URL:https://idahoelderlaw.com/event/2019-walk-to-end-alzheimers-eastern-idaho/
LOCATION:Snake River Landing – Idaho Falls\, 901 Pier View Dr\, Idaho Falls\, 83402\, United States
END:VEVENT
BEGIN:VEVENT
DTSTART;TZID=America/Boise:20190910T183000
DTEND;TZID=America/Boise:20190910T203000
DTSTAMP:20260424T094818
CREATED:20190903T173249Z
LAST-MODIFIED:20190903T173249Z
UID:14360-1568140200-1568147400@idahoelderlaw.com
SUMMARY:Pay for Long Term Care Without Going Broke
DESCRIPTION:Joshua Reams will be presenting Pay for Long Term Care Without Going Broke on Tuesday\, September 10 at 6:30 pm. Join us at West Junior High to learn more!
URL:https://idahoelderlaw.com/event/pay-for-long-term-care-without-going-broke/
LOCATION:West Junior High\, 8371 W Salt Creek Ct.\, Boise\, ID\, 83709\, United States
END:VEVENT
BEGIN:VEVENT
DTSTART;TZID=America/Boise:20190910T180000
DTEND;TZID=America/Boise:20190910T190000
DTSTAMP:20260424T094818
CREATED:20190816T212520Z
LAST-MODIFIED:20190903T225621Z
UID:14291-1568138400-1568142000@idahoelderlaw.com
SUMMARY:Legal and Financial Planning for Alzheimer's
DESCRIPTION:David Wilson\, J.D. Elder Law at Ahrens DeAngeli Law Group\, will be speaking on Legal and Financial Planning for Alzheimer’s on September 10\, 2019 at 6:00 pm. The Alzheimer’s Association is hosting this community education seminar through the Boise City Library. It is located at the Bown Crossing Library. \nJoin us to learn about the important steps to take if Alzheimer’s affects you or a loved one! RSVP to Danielle Worthy at dworthy@cityofboise.org. \n 
URL:https://idahoelderlaw.com/event/legal-and-financial-planning-for-alzheimers/
LOCATION:Bown Crossing Boise City Library\, 2153 E Riverwalk Dr\, Boise\, Idaho\, 83706
END:VEVENT
BEGIN:VEVENT
DTSTART;TZID=America/Boise:20190815T160000
DTEND;TZID=America/Boise:20190815T170000
DTSTAMP:20260424T094818
CREATED:20190809T184836Z
LAST-MODIFIED:20190809T185457Z
UID:14258-1565884800-1565888400@idahoelderlaw.com
SUMMARY:Medicaid Presentation - Senior Services Networking Meeting
DESCRIPTION:Michelle Triplett\, J.D. Elder Law at Ahrens DeAngeli Law Group\, will be speaking on Medicaid on August 15\, 2019 at 4:00 pm. This event is a part of the Senior Services Networking Meeting through the Eastern Idaho Community Action Partnership. \nThis event is open to professionals who provide services to seniors. Please e-mail Eastern Idaho Community Action Partnership at info@eicap.org\, or call 208-522-5391 for more information.
URL:https://idahoelderlaw.com/event/medicaid-presentation-senior-services-networking-meeting/
LOCATION:Eastern Idaho Community Action Partnership\, 935 E Lincoln Rd\, Idaho Falls\, ID\, 83401\, United States
CATEGORIES:Medicaid
ORGANIZER;CN="Eastern Idaho Community Action Partnership":MAILTO:info@eicap.org
END:VEVENT
BEGIN:VEVENT
DTSTART;TZID=America/Boise:20170605T183000
DTEND;TZID=America/Boise:20170605T193000
DTSTAMP:20260424T094818
CREATED:20170508T192110Z
LAST-MODIFIED:20170508T192411Z
UID:14038-1496687400-1496691000@idahoelderlaw.com
SUMMARY:"Caring for the Caregiver" FREE support group for Family Caregivers\, First Monday of each month from 6:30-7:30 PM
DESCRIPTION:
URL:https://idahoelderlaw.com/event/14038/
LOCATION:Maui Mowi Coffee Shop\, 520 E. Franklin Road #105\, Meridian\, ID\, 83642\, United States
END:VEVENT
BEGIN:VEVENT
DTSTART;TZID=America/Boise:20170603T090000
DTEND;TZID=America/Boise:20170603T151500
DTSTAMP:20260424T094818
CREATED:20170512T030539Z
LAST-MODIFIED:20170512T031435Z
UID:14042-1496480400-1496502900@idahoelderlaw.com
SUMMARY:Dementia Family Caregiver Conference
DESCRIPTION:
URL:https://idahoelderlaw.com/event/14042/
LOCATION:College of Idaho/ Langroise Center\,  2112 Cleveland Blvd\, \, Caldwell\, ID\, 83605\, United States
END:VEVENT
BEGIN:VEVENT
DTSTART;TZID=America/Boise:20170421T083000
DTEND;TZID=America/Boise:20170421T120000
DTSTAMP:20260424T094818
CREATED:20170320T223328Z
LAST-MODIFIED:20170406T215640Z
UID:14023-1492763400-1492776000@idahoelderlaw.com
SUMMARY:Continuing Education: Helping Patients and Residents Qualify for VA and Medicaid Benefits to Pay for Long Term Care
DESCRIPTION: 
URL:https://idahoelderlaw.com/event/continuing-education-helping-patients-and-residents-qualify-for-va-and-medicaid-benefits-to-pay-for-long-term-care-4/
LOCATION:Marriott Courtyard\, 1789 S. Eagle Road\, Meridian\, ID\, 83642\, United States
END:VEVENT
BEGIN:VEVENT
DTSTART;TZID=America/Boise:20170414T083000
DTEND;TZID=America/Boise:20170414T120000
DTSTAMP:20260424T094818
CREATED:20170320T223121Z
LAST-MODIFIED:20170320T223121Z
UID:14022-1492158600-1492171200@idahoelderlaw.com
SUMMARY:Continuing Education: Helping Patients and Residents Qualify for VA and Medicaid Benefits to Pay for Long Term Care
DESCRIPTION:
URL:https://idahoelderlaw.com/event/continuing-education-helping-patients-and-residents-qualify-for-va-and-medicaid-benefits-to-pay-for-long-term-care-3/
LOCATION:Residence Inn Idaho Falls\, 635 West Broadway\, Idaho Falls\, ID\, 83402\, United States
END:VEVENT
BEGIN:VEVENT
DTSTART;TZID=America/Boise:20170413T100000
DTEND;TZID=America/Boise:20170413T143000
DTSTAMP:20260424T094818
CREATED:20170320T221337Z
LAST-MODIFIED:20170320T221337Z
UID:14015-1492077600-1492093800@idahoelderlaw.com
SUMMARY:SMART: Live Life Smarter
DESCRIPTION:
URL:https://idahoelderlaw.com/event/smart-live-life-smarter/
LOCATION:West Ada School District Building\, 1303 E Central Dr\, Meridian\, ID\, 83642\, United States
END:VEVENT
BEGIN:VEVENT
DTSTART;TZID=America/Boise:20170413T083000
DTEND;TZID=America/Boise:20170413T120000
DTSTAMP:20260424T094818
CREATED:20170320T222934Z
LAST-MODIFIED:20170320T222934Z
UID:14020-1492072200-1492084800@idahoelderlaw.com
SUMMARY:Continuing Education: Helping Patients and Residents Qualify for VA and Medicaid Benefits to Pay for Long Term Care
DESCRIPTION:
URL:https://idahoelderlaw.com/event/continuing-education-helping-patients-and-residents-qualify-for-va-and-medicaid-benefits-to-pay-for-long-term-care-2/
LOCATION:Twin Falls Fairfield Inn\, 1788 Washington Street North\, Twin Falls\, ID\, 83301\, United States
END:VEVENT
BEGIN:VEVENT
DTSTART;TZID=America/Boise:20170412T083000
DTEND;TZID=America/Boise:20170412T120000
DTSTAMP:20260424T094818
CREATED:20170320T222527Z
LAST-MODIFIED:20170320T222527Z
UID:14018-1491985800-1491998400@idahoelderlaw.com
SUMMARY:Continuing Education: Helping Patients and Residents Qualify for VA and Medicaid Benefits to Pay for Long Term Care
DESCRIPTION:
URL:https://idahoelderlaw.com/event/continuing-education-helping-patients-and-residents-qualify-for-va-and-medicaid-benefits-to-pay-for-long-term-care/
LOCATION:Nampa Civic Center\, 311 3rd St S\, Nampa\, ID\, 83651\, United States
END:VEVENT
BEGIN:VEVENT
DTSTART;TZID=America/Boise:20170330T113000
DTEND;TZID=America/Boise:20170330T150000
DTSTAMP:20260424T094818
CREATED:20170320T224153Z
LAST-MODIFIED:20170320T224153Z
UID:14024-1490873400-1490886000@idahoelderlaw.com
SUMMARY:Legal and Financial Planning
DESCRIPTION:
URL:https://idahoelderlaw.com/event/legal-and-financial-planning/
LOCATION:Unnamed Venue\, 7557 W. Ustick Road\, Boise\, ID\, 83704\, United States
END:VEVENT
BEGIN:VEVENT
DTSTART;TZID=America/Boise:20161011T100000
DTEND;TZID=America/Boise:20161011T120000
DTSTAMP:20260424T094818
CREATED:20161005T034709Z
LAST-MODIFIED:20161005T034709Z
UID:13999-1476180000-1476187200@idahoelderlaw.com
SUMMARY:WORKSHOP Advance Care Planning/Living Wills
DESCRIPTION:Interactive and Hands on Training: \n\nDavid J. Wilson\, Ahrens DeAngeli Law Group\nKimberly Ouwehand\, Treasure Valley Hospice\n\n“Conversations” is a HOT topic and this is and interactive training with experts through an actual Advance Directives/Living Will from top to bottom for better understanding of the documents and your options. \nCompletely documents include: \n\nIdaho Living Will/registration\nPower of Attorney/HIPPA\nIdaho POST
URL:https://idahoelderlaw.com/event/httpwww-treasurevalleyhospice-comrsvpmakeradvance-care-directives-101-2016-7-7/
LOCATION:Idaho Dept of Labor\, 4514 Thomas Jefferson Street\, Caldwell\, ID\, United States
END:VEVENT
BEGIN:VEVENT
DTSTART;TZID=America/Boise:20161007T083000
DTEND;TZID=America/Boise:20161007T120000
DTSTAMP:20260424T094818
CREATED:20161005T033535Z
LAST-MODIFIED:20161005T033535Z
UID:13991-1475829000-1475841600@idahoelderlaw.com
SUMMARY:Eastern Idaho VA and Medicaid Seminar
DESCRIPTION:
URL:https://idahoelderlaw.com/event/eastern-idaho-va-and-medicaid-seminar/
LOCATION:Residence Inn Idaho Falls\, 635 West Broadway\, Idaho Falls\, ID\, 83402\, United States
END:VEVENT
BEGIN:VEVENT
DTSTART;VALUE=DATE:20160930
DTEND;VALUE=DATE:20161002
DTSTAMP:20260424T094818
CREATED:20160510T194119Z
LAST-MODIFIED:20160510T194119Z
UID:13967-1475193600-1475366399@idahoelderlaw.com
SUMMARY:2016 Annual Estate Planning Conference
DESCRIPTION:  \n  \n  \n  \nDavid Wilson will be speaking at the 2016 Annual Idaho Estate Planning Conference September 30 – October 1\, 2016.  More information to come!
URL:https://idahoelderlaw.com/event/2016-annual-estate-planning-conference/
LOCATION:ID
END:VEVENT
BEGIN:VEVENT
DTSTART;TZID=America/Boise:20160726T120000
DTEND;TZID=America/Boise:20160726T130000
DTSTAMP:20260424T094818
CREATED:20160715T021417Z
LAST-MODIFIED:20160715T021417Z
UID:13975-1469534400-1469538000@idahoelderlaw.com
SUMMARY:Kickoff Lunch - Walk to End Alzheimer's
DESCRIPTION:You are invited to join us for lunch to Kickoff this year’s Walk to End Alzheimer’s season!   \nThis is everyone’s chance to come learn about Walk\, the tools offered and to pick up posters\, flyers and brochures!   \nPlease RSVP yourself by emailing Lindsay directly at lmeloy@alz.org. \nThanks so much and hopefully we will see you on the 26th! \n  \n 
URL:https://idahoelderlaw.com/event/kickoff-lunch-walk-to-end-alzheimers/
LOCATION:Clubhouse Event Center\, 7311 Potomac Drive\, Boise\, 83704
END:VEVENT
BEGIN:VEVENT
DTSTART;TZID=America/Boise:20160616T080000
DTEND;TZID=America/Boise:20160616T170000
DTSTAMP:20260424T094818
CREATED:20160510T032336Z
LAST-MODIFIED:20160510T032336Z
UID:13965-1466064000-1466096400@idahoelderlaw.com
SUMMARY:Elder Abuse Training for Victim Service Providers
DESCRIPTION:Notice of Upcoming Community Event: \n(All Community Events are posted by Ahrens DeAngeli Law Group as a service to the community.  We do not endorse or support any particular event or viewpoint.)
URL:https://idahoelderlaw.com/event/elder-abuse-training-for-victim-service-providers/
LOCATION:ID
END:VEVENT
BEGIN:VEVENT
DTSTART;TZID=America/Boise:20160603T080000
DTEND;TZID=America/Boise:20160603T160000
DTSTAMP:20260424T094818
CREATED:20160510T194731Z
LAST-MODIFIED:20160510T194731Z
UID:13972-1464940800-1464969600@idahoelderlaw.com
SUMMARY:David Speaking at Gem State Tax Symposium
DESCRIPTION:The 2016 Gem State Tax Symposium will bring top national and Idaho speakers to Boise State to discuss current tax issues\, law changes and policy issues professionals are facing. \nDavid Wilson will present on “Hot Topics in Elder Law”  David’s presentation will center on the intersection of tax law and current long term care planning practices. \nThis seminar provides 6 CE hours including 1 CE hour of Ethics. \nFor more information on registering for this event\, contact the Boise State Department of Accountancy at (208) 426-3461. \n 
URL:https://idahoelderlaw.com/event/david-speaking-at-gem-state-tax-symposium/
LOCATION:BSU Student Union\, Lookout Room\, 1700 University Drive\, Boise\, ID\, 83725\, United States
END:VEVENT
BEGIN:VEVENT
DTSTART;TZID=America/Boise:20160520T080000
DTEND;TZID=America/Boise:20160520T160000
DTSTAMP:20260424T094818
CREATED:20160315T034850Z
LAST-MODIFIED:20160510T194335Z
UID:13959-1463731200-1463760000@idahoelderlaw.com
SUMMARY:David Speaking at PESI Idaho Elder Law - 2016 Seminar
DESCRIPTION:David Wilson will present Planning for Incapacity as part of the PESI Idaho Elder Law – 2016 Seminar.  David’s presentation will center on paying for long term care through private means\, VA Benefits and Medicaid. \nThis seminar provides 6 CE hours including 1 CE hour of Ethics. \nPre-registration is required at http://www.pesi.com/search/detail/index.aspx?eventid=44699. \n 
URL:https://idahoelderlaw.com/event/david-speaking-at-idaho-elder-law-2016-seminar/
LOCATION:Wyndham Garden Boise Airport\, 3300 South Vista Avenue\, Boise\, 83705
END:VEVENT
BEGIN:VEVENT
DTSTART;VALUE=DATE:20160501
DTEND;VALUE=DATE:20160601
DTSTAMP:20260424T094818
CREATED:20160505T224408Z
LAST-MODIFIED:20160510T032515Z
UID:13962-1462060800-1464739199@idahoelderlaw.com
SUMMARY:Suitcase\, Duffel Bag and Back Pack Drive to Benefit Idaho Foster Care Children
DESCRIPTION:Notice of Upcoming Community Event: \n(All Community Events are posted by Ahrens DeAngeli Law Group as a service to the community.  We do not endorse or support any particular event or viewpoint.) \n \n 
URL:https://idahoelderlaw.com/event/suitcase-duffel-bag-and-back-pack-drive-to-benefit-idaho-foster-care-children/
LOCATION:ID
END:VEVENT
BEGIN:VEVENT
DTSTART;TZID=America/Boise:20160405T180000
DTEND;TZID=America/Boise:20160405T200000
DTSTAMP:20260424T094818
CREATED:20160211T224023Z
LAST-MODIFIED:20160211T224023Z
UID:13952-1459879200-1459886400@idahoelderlaw.com
SUMMARY:Everything Changes:  Planning For\, and Dealing With\, Long Term Care - Presentation 2
DESCRIPTION:Ahrens DeAngeli Law Group is proud to announce a community presentation on the subject of long term care. \nPlease join us for two evenings (March 15 and April 5) with a panel of experts for a community discussion on how to: \n\nPlan for care centered on your wishes and needs;\nFind the community and care resources you need;\nProtect your hard earned retirement from being consumed by care costs;\nLearn about Medicare and how it interacts with long term care.\n\nWe expect both nights will be wonderful and anyone who is worried about long term care\, is currently a caregiver\, or has family who is receiving care or is care giving will greatly benefit from the discussion. \nOn the evening of Tuesday\, April 5\, 2016.  Aaron Flake\, an Independent insurance agent and Medicare expert\, will be presenting on Medicare and David Wilson will be speaking on the topic of Protecting Assets from Long Term Care Costs.  The panel members who spoke on the first night (March 15) will also be in attendance to answer questions and provide guidance. \nLight refreshments will be served. \nSeating is limited; please RSVP to Monica Regan at (208) 639-7799.
URL:https://idahoelderlaw.com/event/everything-changes-planning-for-and-dealing-with-long-term-care-presentation-2/
LOCATION:West Ada School District Building\, 1303 E Central Dr\, Meridian\, ID\, 83642\, United States
END:VEVENT
BEGIN:VEVENT
DTSTART;TZID=America/Boise:20160318T083000
DTEND;TZID=America/Boise:20160318T110000
DTSTAMP:20260424T094818
CREATED:20160302T230103Z
LAST-MODIFIED:20160302T230103Z
UID:13954-1458289800-1458298800@idahoelderlaw.com
SUMMARY:CEU Hours:  Maximizing Public Benefits for Residents\, Facilities and In Home Care Providers
DESCRIPTION:David Wilson and Elder Law at Ahrens DeAngeli Law Group are proud to announce a two hour Continuing Education on the subject of maximizing public benefits for residents\, facilities and in home care providers. \nPlease join us for a two hour presentation covering: \n\nGetting Vets eligible for VA Pensions\nGetting residents/patients eligible for Medicaid benefits\nPitfalls in applications for benefits\nBasic planning to help get qualified and submitting applications\nUsing benefits to maximize families’ ability to pay for services\n\nWho should attend?  Administrators\, Business Office Managers\, Care Managers\, Social Workers and others who fill out Medicaid applications for residents\, patients or clients. \nSeating is limited; please RSVP to Monica Reagan at (208) 639-7799. \nLight breakfast and registration is at 8:30 a.m.  Presentation begins at 9:00 a.m.
URL:https://idahoelderlaw.com/event/ceu-hours-maximizing-public-benefits-for-residents-facilities-and-in-home-care-providers/
LOCATION:Ahrens DeAngeli Law Group Office\, 250 South Fifth Street\, Basement\, Boise\, ID\, 83702\, United States
END:VEVENT
BEGIN:VEVENT
DTSTART;TZID=America/Boise:20160317T090000
DTEND;TZID=America/Boise:20160317T110000
DTSTAMP:20260424T094818
CREATED:20160302T230149Z
LAST-MODIFIED:20160302T230149Z
UID:13958-1458205200-1458212400@idahoelderlaw.com
SUMMARY:CEU Hours: Maximizing Public Benefits for Residents\, Facilities and In Home Care Providers
DESCRIPTION:David Wilson and Elder Law at Ahrens DeAngeli Law Group are proud to announce a two hour Continuing Education on the subject of maximizing public benefits for residents\, facilities and in home care providers. \nPlease join us for a two hour presentation covering: \n\nGetting Vets eligible for VA Pensions\nGetting residents/patients eligible for Medicaid benefits\nPitfalls in applications for benefits\nBasic planning to help get qualified and submitting applications\nUsing benefits to maximize families’ ability to pay for services\n\nWho should attend?  Administrators\, Business Office Managers\, Care Managers\, Social Workers and others who fill out Medicaid applications for residents. \nSeating is limited; please RSVP to Monica Reagan at (208) 639-7799. \nLight breakfast and registration is at 8:30 a.m.  Presentation begins at 9:00 a.m.
URL:https://idahoelderlaw.com/event/ceu-hours-maximizing-public-benefits-for-residents-facilities-and-in-home-care-providers-2/
LOCATION:Nampa Civic Center\, 311 3rd St S\, Nampa\, ID\, 83651\, United States
END:VEVENT
BEGIN:VEVENT
DTSTART;TZID=America/Boise:20160315T180000
DTEND;TZID=America/Boise:20160315T200000
DTSTAMP:20260424T094818
CREATED:20160211T224037Z
LAST-MODIFIED:20160211T224037Z
UID:13950-1458064800-1458072000@idahoelderlaw.com
SUMMARY:Everything Changes:  Planning For\, and Dealing With\, Long Term Care - Presentation 1
DESCRIPTION:Ahrens DeAngeli Law Group is proud to announce a community presentation on the subject of long term care. \nPlease join us for two evenings with a panel of experts for a community discussion on how to: \n\nPlan for care centered on your wishes and needs;\nFind the community and care resources you need;\nProtect your hard earned retirement from being consumed by care costs;\nLearn about Medicare and how it interacts with long term care.\n\nWe expect both nights will be wonderful.  Anyone who is worried about long term care\, is currently a caregiver\, or has family who is receiving care or is care giving will greatly benefit from the discussion. \nOn the evening of Tuesday\, March 15\, 2016.  Matt Valentine\, with Mass Mutual\, will be presenting on long term care costs and how to prepare for them\, Kim Ouwehand\, of Treasure Valley Hospice\, will be presenting on planning so that you are in control of your life and the care you receive and Dee Childers\, with Life Changes Elder Care Consulting\, will be presenting on care facilities in the Treasure Valley and the types of care services.  The evening will be hosted by David Wilson who will also be available to answer questions and provide guidance. \nLight refreshments will be served. \nSeating is limited; please RSVP to Monica Regan at (208) 639-7799.
URL:https://idahoelderlaw.com/event/everything-changes-planning-for-and-dealing-with-long-term-care-presentation-1/
LOCATION:West Ada School District Building\, 1303 E Central Dr\, Meridian\, ID\, 83642\, United States
END:VEVENT
BEGIN:VEVENT
DTSTART;TZID=America/Boise:20160220T080000
DTEND;TZID=America/Boise:20160220T160000
DTSTAMP:20260424T094818
CREATED:20160203T233808Z
LAST-MODIFIED:20160210T005834Z
UID:13941-1455955200-1455984000@idahoelderlaw.com
SUMMARY:David Speaking at 5th Annual Family Caregiver Conference
DESCRIPTION:David Wilson will be speaking at the 5th Annual Family Caregiver Conference at Boise State University on Saturday\, February 16\, 2016.  David will be speaking on the topic of Maximizing Public Benefits for Long Term Care Throughout a Love One’s Life. \nThe Conference\, hosted by Boise State University’s Center for the Study of Aging and Family Studies Program \, in partnership with Friends in Action and Idaho Parents Unlimited\, is a day all about YOU … the family caregiver.  Learn from inspiring speakers and build YOUR toolbox of caregiving strategies and knowledge.  Connect with community resources and learn from other caregivers. \nTo register for the conference\, please click here.
URL:https://idahoelderlaw.com/event/5th-annual-family-caregiver-conference/
LOCATION:Boise State University Student Union – Jordan Ballroom\,  1700 University Drive\, Boise\, 83725\, United States
END:VEVENT
BEGIN:VEVENT
DTSTART;TZID=America/Boise:20160216T173000
DTEND;TZID=America/Boise:20160216T183000
DTSTAMP:20260424T094818
CREATED:20160208T232155Z
LAST-MODIFIED:20160208T233144Z
UID:13945-1455643800-1455647400@idahoelderlaw.com
SUMMARY:David Presenting on Planning for Life at McCall Senior Center
DESCRIPTION:David will be speaking to the McCall Senior Center on Tuesday\, February 16\, 2016 during the evening dinner at 5:30pm.  David will be speaking on the topic of Planning for Life:  Aging in Place and Protecting Rights in Incapacity.
URL:https://idahoelderlaw.com/event/community-presentation-on-planning-for-life-at-mccall-senior-center/
LOCATION:McCall Senior Center\, 701 1st Street\, McCall\, ID\, 83638\, United States
ORGANIZER;CN="McCall Senior Center":MAILTO:mccallsrcenter@cableone.net
END:VEVENT
BEGIN:VEVENT
DTSTART;TZID=America/Boise:20151008T130000
DTEND;TZID=America/Boise:20151008T150000
DTSTAMP:20260424T094818
CREATED:20150724T232542Z
LAST-MODIFIED:20150730T032607Z
UID:13847-1444309200-1444316400@idahoelderlaw.com
SUMMARY:Advanced Medicaid and VA Eligibility Issues and Solutions
DESCRIPTION:Participants will explore advanced Medicaid planning issues with couples\, retirement assets\, trusts\, hard-to-sell assets\, etc. The course is designed for those already familiar with basic Medicaid eligibility rules. This seminar is aimed at facility representatives\, social workers\, business office managers and others who help residents or patients with Medicaid applications.   \nRSVP required; please contact Monica at 208-639-7799.
URL:https://idahoelderlaw.com/event/advanced-medicaid-and-va-eligibility-issues-and-solutions/
LOCATION:Ahrens DeAngeli Law Group Office\, 250 South Fifth Street\, Basement\, Boise\, ID\, 83702\, United States
END:VEVENT
BEGIN:VEVENT
DTSTART;TZID=America/Boise:20151008T100000
DTEND;TZID=America/Boise:20151008T120000
DTSTAMP:20260424T094818
CREATED:20150724T232339Z
LAST-MODIFIED:20150730T034745Z
UID:13846-1444298400-1444305600@idahoelderlaw.com
SUMMARY:Introduction to Medicaid Applications and Eligibility
DESCRIPTION:Participants will learn the basics of long-term care Medicaid eligibility\, completing Medicaid applications and dealing with the Department of Health and Welfare.  This seminar is aimed at facility representatives\, social workers\, business office managers and others who help residents or patients with Medicaid Applications.  \nRSVP required; please contact Monica at 208-639-7799.
URL:https://idahoelderlaw.com/event/introduction-to-medicaid-applications-and-eligibility/
LOCATION:Ahrens DeAngeli Law Group Office\, 250 South Fifth Street\, Basement\, Boise\, ID\, 83702\, United States
END:VEVENT
BEGIN:VEVENT
DTSTART;TZID=America/Boise:20150925T113000
DTEND;TZID=America/Boise:20150925T133000
DTSTAMP:20260424T094818
CREATED:20150724T230737Z
LAST-MODIFIED:20150731T205035Z
UID:13844-1443180600-1443187800@idahoelderlaw.com
SUMMARY:Life with Aging Parents: Rewards\, Headaches and Living without Regrets
DESCRIPTION:Ahrens DeAngeli Law Group is proud to announce that we will be hosting a wonderful event on September 25\, 2015.  Three incredible speakers will be joining us from around the country to share their thoughts about the crucial issues facing caregivers and seniors. \nSeating is limited; if you are interested in attending\, please contact Monica at 208-639-7799.
URL:https://idahoelderlaw.com/event/life-with-aging-parents-rewards-headaches-and-living-without-regrets/
LOCATION:BSU\, Stueckle Sky Center\, 1910 University Drive\, Boise\, ID\, 83702\, United States
END:VEVENT
BEGIN:VEVENT
DTSTART;TZID=America/Boise:20150721T101500
DTEND;TZID=America/Boise:20150721T114500
DTSTAMP:20260424T094818
CREATED:20150715T004518Z
LAST-MODIFIED:20150725T023155Z
UID:13538-1437473700-1437479100@idahoelderlaw.com
SUMMARY:Maximizing the Effect of Medicaid and VA Benefits in Care Facilities
DESCRIPTION:David Wilson will present Maximizing the Effect of Medicaid and VA Benefits in Care Facilities as part of the Idaho Health Care Association’s annual convention. Pre-registration is required at www.idhca.org/events/49th-annual-convention-tradeshow.
URL:https://idahoelderlaw.com/event/maximizing-the-effect-of-medicaid-and-va-benefits-in-care-facilities/
LOCATION:BSU Student Union\, Lookout Room\, 1700 University Drive\, Boise\, ID\, 83725\, United States
END:VEVENT
END:VCALENDAR