BEGIN:VCALENDAR
VERSION:2.0
PRODID:-//Elder Law at Ahrens DeAngeli Law Group - ECPv6.15.20//NONSGML v1.0//EN
CALSCALE:GREGORIAN
METHOD:PUBLISH
X-ORIGINAL-URL:https://idahoelderlaw.com
X-WR-CALDESC:Events for Elder Law at Ahrens DeAngeli Law Group
REFRESH-INTERVAL;VALUE=DURATION:PT1H
X-Robots-Tag:noindex
X-PUBLISHED-TTL:PT1H
BEGIN:VTIMEZONE
TZID:America/Boise
BEGIN:DAYLIGHT
TZOFFSETFROM:-0700
TZOFFSETTO:-0600
TZNAME:MDT
DTSTART:20160313T090000
END:DAYLIGHT
BEGIN:STANDARD
TZOFFSETFROM:-0600
TZOFFSETTO:-0700
TZNAME:MST
DTSTART:20161106T080000
END:STANDARD
BEGIN:DAYLIGHT
TZOFFSETFROM:-0700
TZOFFSETTO:-0600
TZNAME:MDT
DTSTART:20170312T090000
END:DAYLIGHT
BEGIN:STANDARD
TZOFFSETFROM:-0600
TZOFFSETTO:-0700
TZNAME:MST
DTSTART:20171105T080000
END:STANDARD
BEGIN:DAYLIGHT
TZOFFSETFROM:-0700
TZOFFSETTO:-0600
TZNAME:MDT
DTSTART:20180311T090000
END:DAYLIGHT
BEGIN:STANDARD
TZOFFSETFROM:-0600
TZOFFSETTO:-0700
TZNAME:MST
DTSTART:20181104T080000
END:STANDARD
BEGIN:DAYLIGHT
TZOFFSETFROM:-0700
TZOFFSETTO:-0600
TZNAME:MDT
DTSTART:20190310T090000
END:DAYLIGHT
BEGIN:STANDARD
TZOFFSETFROM:-0600
TZOFFSETTO:-0700
TZNAME:MST
DTSTART:20191103T080000
END:STANDARD
BEGIN:DAYLIGHT
TZOFFSETFROM:-0700
TZOFFSETTO:-0600
TZNAME:MDT
DTSTART:20200308T090000
END:DAYLIGHT
BEGIN:STANDARD
TZOFFSETFROM:-0600
TZOFFSETTO:-0700
TZNAME:MST
DTSTART:20201101T080000
END:STANDARD
BEGIN:DAYLIGHT
TZOFFSETFROM:-0700
TZOFFSETTO:-0600
TZNAME:MDT
DTSTART:20210314T090000
END:DAYLIGHT
BEGIN:STANDARD
TZOFFSETFROM:-0600
TZOFFSETTO:-0700
TZNAME:MST
DTSTART:20211107T080000
END:STANDARD
END:VTIMEZONE
BEGIN:VEVENT
DTSTART;TZID=America/Boise:20200502T100000
DTEND;TZID=America/Boise:20200502T140000
DTSTAMP:20260424T083124
CREATED:20200312T224051Z
LAST-MODIFIED:20200312T224051Z
UID:14557-1588413600-1588428000@idahoelderlaw.com
SUMMARY:4th Annual Free Senior Health & Safety Fair
DESCRIPTION:
URL:https://idahoelderlaw.com/event/4th-annual-free-senior-health-safety-fair/
LOCATION:College of Eastern Idaho Cafeteria (Building 3)\, 1600 S 25th E\, Idaho Falls\, ID\, United States
ORGANIZER;CN="Eastern Idaho Community Action Partnership":MAILTO:info@eicap.org
END:VEVENT
BEGIN:VEVENT
DTSTART;TZID=America/Boise:20200421T133000
DTEND;TZID=America/Boise:20200421T150000
DTSTAMP:20260424T083124
CREATED:20200312T230211Z
LAST-MODIFIED:20200312T230211Z
UID:14562-1587475800-1587481200@idahoelderlaw.com
SUMMARY:Estate Planning Basics: Peace of Mind for Seniors
DESCRIPTION:
URL:https://idahoelderlaw.com/event/estate-planning-basics-peace-of-mind-for-seniors-6/
LOCATION:Meridian Library District\, 1326 W Cherry Lane\, Meridian\, ID\, United States
END:VEVENT
BEGIN:VEVENT
DTSTART;TZID=America/Boise:20200323T180000
DTEND;TZID=America/Boise:20200323T193000
DTSTAMP:20260424T083124
CREATED:20200302T231708Z
LAST-MODIFIED:20200302T231708Z
UID:14552-1584986400-1584991800@idahoelderlaw.com
SUMMARY:Estate Planning Basics: Peace of Mind for Seniors
DESCRIPTION:
URL:https://idahoelderlaw.com/event/estate-planning-basics-peace-of-mind-for-seniors-5/
LOCATION:Meridian Senior Center\, 1920 N. Records Ave.\, Meridian\, ID\, United States
END:VEVENT
BEGIN:VEVENT
DTSTART;TZID=America/Boise:20200319T180000
DTEND;TZID=America/Boise:20200319T200000
DTSTAMP:20260424T083124
CREATED:20200302T223144Z
LAST-MODIFIED:20200302T223144Z
UID:14544-1584640800-1584648000@idahoelderlaw.com
SUMMARY:Legacy Seminar
DESCRIPTION:Protect your today\, plan for your tomorrow\, and ensure your legacy. \nJoin us for an evening discussion on how to plan your Legacy. \n\nFinancial Planning– Protect your capacity to support a good life for the rest of your life and maintain legacy objectives.\nEstate Planning– Protect the ones you leave behind and provide clear instructions of your final wishes.\nEnd of Life Planning– Preplanning for the inevitable by writing down your wishes. Understanding cremation vs. traditional funeral and burial.\n\nDinner will be served. For additional information call (208) 375-2212. \nLimited seating\, RSVP today! By phone at (208) 375-2212 or online.
URL:https://idahoelderlaw.com/event/legacy-seminar/
LOCATION:Cloverdale Event Center\, 1200 N Cloverdale Road\, Boise\, ID\, 83713\, United States
CATEGORIES:Estate Planning
END:VEVENT
BEGIN:VEVENT
DTSTART;TZID=America/Boise:20200317T150000
DTEND;TZID=America/Boise:20200317T163000
DTSTAMP:20260424T083124
CREATED:20200211T003319Z
LAST-MODIFIED:20200211T003319Z
UID:14536-1584457200-1584462600@idahoelderlaw.com
SUMMARY:Lawyers and Physicians Answer Your Questions!
DESCRIPTION:
URL:https://idahoelderlaw.com/event/lawyers-and-physicians-answer-your-questions/
LOCATION:Heatherwood Senior Living\, 5277 W Kootenai Street\, Boise\, ID\, 83705
END:VEVENT
BEGIN:VEVENT
DTSTART;TZID=America/Boise:20200227T183000
DTEND;TZID=America/Boise:20200227T200000
DTSTAMP:20260424T083124
CREATED:20200207T005510Z
LAST-MODIFIED:20200207T164741Z
UID:14530-1582828200-1582833600@idahoelderlaw.com
SUMMARY:Estate Planning Basics: Peace of Mind For Seniors
DESCRIPTION:
URL:https://idahoelderlaw.com/event/estate-planning-basics-peace-of-mind-for-seniors-4/
LOCATION:Nampa Civic Center\, 311 3rd St S\, Nampa\, ID\, 83651\, United States
CATEGORIES:Estate Planning
END:VEVENT
BEGIN:VEVENT
DTSTART;TZID=America/Boise:20200123T130000
DTEND;TZID=America/Boise:20200123T143000
DTSTAMP:20260424T083124
CREATED:20200121T185328Z
LAST-MODIFIED:20200121T185328Z
UID:14526-1579784400-1579789800@idahoelderlaw.com
SUMMARY:Estate Planning Basics: Peace of Mind for Seniors
DESCRIPTION:Estate Planning Basics: Peace of Mind for Seniors
URL:https://idahoelderlaw.com/event/estate-planning-basics-peace-of-mind-for-seniors-3/
LOCATION:Silverstone Plaza\, 3405 E. Overland Road\, Meridian\, ID\, 83642\, United States
CATEGORIES:Estate Planning
END:VEVENT
BEGIN:VEVENT
DTSTART;TZID=America/Boise:20191126T140000
DTEND;TZID=America/Boise:20191126T153000
DTSTAMP:20260424T083124
CREATED:20191008T195510Z
LAST-MODIFIED:20191008T195510Z
UID:14427-1574776800-1574782200@idahoelderlaw.com
SUMMARY:Alzheimer's Support Group
DESCRIPTION:Co-sponsored with Alzheimer’s Association Greater Idaho Chapter\, the Eagle Public Library offers support for individuals and families whose lives are touched by Alzheimer’s.
URL:https://idahoelderlaw.com/event/alzheimers-support-group/
LOCATION:Eagle Public Library\, 100 N Stierman Way\, Eagle\, ID\, 83616\, United States
END:VEVENT
BEGIN:VEVENT
DTSTART;TZID=America/Boise:20191114T130000
DTEND;TZID=America/Boise:20191114T150000
DTSTAMP:20260424T083124
CREATED:20191021T220543Z
LAST-MODIFIED:20191024T164657Z
UID:14457-1573736400-1573743600@idahoelderlaw.com
SUMMARY:Estate Planning Basics: Peace of Mind for Seniors
DESCRIPTION:
URL:https://idahoelderlaw.com/event/estate-planning-basics-peace-of-mind-for-seniors/
LOCATION:Nampa Civic Center\, 311 3rd St S\, Nampa\, ID\, 83651\, United States
END:VEVENT
BEGIN:VEVENT
DTSTART;VALUE=DATE:20191109
DTEND;VALUE=DATE:20191110
DTSTAMP:20260424T083124
CREATED:20191010T154158Z
LAST-MODIFIED:20191010T154158Z
UID:14431-1573257600-1573343999@idahoelderlaw.com
SUMMARY:Rake Up Boise
DESCRIPTION:The 34th Annual Rake Up Boise will take place on November 9th. Grab a rake\, pull together your friends and help out over 800 senior citizens and disabled persons. Sign up to volunteer\, or sign up to receive help now! And for those you that can’t make it on the 9th\, you can still donate to help out!
URL:https://idahoelderlaw.com/event/rake-up-boise/
LOCATION:ID
ORGANIZER;CN="Neighbor Works Boise":MAILTO:rakeupboise@nwboise.org
END:VEVENT
BEGIN:VEVENT
DTSTART;TZID=America/Boise:20191024T183000
DTEND;TZID=America/Boise:20191024T203000
DTSTAMP:20260424T083124
CREATED:20191024T165803Z
LAST-MODIFIED:20191024T170212Z
UID:14464-1571941800-1571949000@idahoelderlaw.com
SUMMARY:Estate Planning Basics: Peace of Mind for Seniors
DESCRIPTION:
URL:https://idahoelderlaw.com/event/estate-planning-basics-peace-of-mind-for-seniors-2/
LOCATION:Boise Public Library\, 715 S Capitol Blvd.\, Boise\, ID\, 83702\, United States
END:VEVENT
BEGIN:VEVENT
DTSTART;TZID=America/Boise:20191021T150000
DTEND;TZID=America/Boise:20191021T170000
DTSTAMP:20260424T083124
CREATED:20191014T223349Z
LAST-MODIFIED:20191014T223349Z
UID:14448-1571670000-1571677200@idahoelderlaw.com
SUMMARY:Early Stage Support Group
DESCRIPTION:For details\, contact Rick Vogel — Alzheimer’s Association-Greater Idaho Chapter (208) 206-0041\, ext. 8198 or email: ravogel@alz.org
URL:https://idahoelderlaw.com/event/early-stage-support-group/
LOCATION:Alzheimer’s Association Boise\, 2995 N. Cole Road Ste. 120\, Boise\, ID\, United States
END:VEVENT
BEGIN:VEVENT
DTSTART;TZID=America/Boise:20191017T120000
DTEND;TZID=America/Boise:20191017T133000
DTSTAMP:20260424T083124
CREATED:20191014T221850Z
LAST-MODIFIED:20191014T221921Z
UID:14441-1571313600-1571319000@idahoelderlaw.com
SUMMARY:Caregiver Education & Support Group
DESCRIPTION:This monthly education and support group is for anyone caring for a loved one with some form of cognitive impairment and community members. In this welcoming and supportive environment\, they discuss solutions to common challenges and coping with the role of caregiver and supportive family member. With the expertise of professionals\, they provide helpful information in a comfortable space for interactive support with others who have or are experiencing the same journey. \nFor questions please call 208-377-3177.
URL:https://idahoelderlaw.com/event/caregiver-education-support-group/
LOCATION:Emerson House at Riverpointe\, 8250 W. Marigold St\, Garden City\, ID\, 83714\, United States
END:VEVENT
BEGIN:VEVENT
DTSTART;TZID=America/Boise:20191015T110000
DTEND;TZID=America/Boise:20191015T120000
DTSTAMP:20260424T083124
CREATED:20191014T221234Z
LAST-MODIFIED:20191014T221234Z
UID:14437-1571137200-1571140800@idahoelderlaw.com
SUMMARY:Medicare Meet Up
DESCRIPTION:Medicare specialist Jason Pollock holds office hours at the Senior Center on the third Tuesday of each month\, from 11 a.m. to noon. The free hour-long session is open to the public and anyone can drop in to ask questions and get some one-on-one help. Jason offers coffee and breakfast pastries to everyone who stops by.
URL:https://idahoelderlaw.com/event/medicare-meet-up/
LOCATION:Dick Eardley Senior Center\, 690 W Robbins Road\, Boise\, ID\, 83702\, United States
END:VEVENT
BEGIN:VEVENT
DTSTART;TZID=America/Boise:20191005T110000
DTEND;TZID=America/Boise:20191005T170000
DTSTAMP:20260424T083124
CREATED:20190729T211833Z
LAST-MODIFIED:20190729T212039Z
UID:14243-1570273200-1570294800@idahoelderlaw.com
SUMMARY:2019 Walk to End Alzheimer's - Treasure Valley
DESCRIPTION:Elder Law at Ahrens DeAngeli Law Group will be at the Eastern Idaho\, Magic Valley\, and Treasure Valley Walks. Join our team to walk with us\, or donate to advance care\, support and research towards Alzheimer’s disease here. \nThe Treasure Valley event is on October 5\, 2019\, at Julius M. Kleiner Memorial Park in Boise. Registration begins at 10 am\, ceremony at 11 am\, and walk at 11:30 am. If you have questions about the event details\, contact Alix Hilton at (208)206-0041 or at alhilton@alz.org. \nVisit 2019 Walk to End Alzheimer’s – Treasure Valley to learn more about the walk\, and the Alzheimer’s Association’s work to end Alzheimer’s.
URL:https://idahoelderlaw.com/event/2019-walk-to-end-alzheimers-treasure-valley/
LOCATION:Julius M. Kleiner Memorial Park\, 1900 North Records Ave.\, Boise\, ID\, 83642\, United States
END:VEVENT
BEGIN:VEVENT
DTSTART;TZID=America/Boise:20191005T100000
DTEND;TZID=America/Boise:20191005T170000
DTSTAMP:20260424T083124
CREATED:20190927T162022Z
LAST-MODIFIED:20190927T162022Z
UID:14408-1570269600-1570294800@idahoelderlaw.com
SUMMARY:Baby Boomer Lifestyle Expo
DESCRIPTION:The Baby Boomer Lifestyle Expo is a premier Health\, Activity & Planning Expo for Baby Boomers and Seniors living in Idaho. This one day expo is open to all ages and admission is free! \nCome visit Elder Law at Ahrens DeAngeli Law Group and speak with our Certified Elder Law Attorneys about your estate planning and long term care future. We will be at Booth 405. \n 
URL:https://idahoelderlaw.com/event/baby-boomer-lifestyle-expo/
LOCATION:Expo Idaho – South Hall\, 5610 North Glenwood Street\, Boise\, ID\, 83714\, United States
END:VEVENT
BEGIN:VEVENT
DTSTART;TZID=America/Boise:20190927T093000
DTEND;TZID=America/Boise:20190927T113000
DTSTAMP:20260424T083125
CREATED:20190716T182423Z
LAST-MODIFIED:20190729T212137Z
UID:14220-1569576600-1569583800@idahoelderlaw.com
SUMMARY:12th Annual ISU Thomas Senior Health and Wellness Symposium: "Staying Healthy\, Staying Sharp"
DESCRIPTION:Idaho State University Health Center is hosting the 12th Annual ISU Thomas Senior Health and Wellness Symposium\, with locations in Pocatello and Boise on September 27. Contact the event’s host\, or visit the website for more information. \nSenior Center Activity:\nHealth & Wellness Event for Seniors\n9:30 a.m. to 11:30 a.m.\, with lunch following for seniors at each center \nPocatello Location:\nPocatello Senior Activity Center\n427 N. 6th Street\, Pocatello\, ID 83201 \nTreasure Valley Location:\nBoise Senior Center\n690 Robbins Road\, Boise\, ID 83702 \nWHAT’S NEW with the Symposium?\nIf you are a member of the senior community in the Pocatello area or the Treasure Valley area\, we know you will love the changes we’ve made for this year’s symposium! \nThis year ISU is bringing the symposium to you! There will be interactive presentations on topics of interest for seniors in areas such as medications\, oral health\, fraud protection\, fall prevention\, good nutrition and more. There will be games\, demonstrations\, and prize giveaways as well. The symposium will also showcase the Health Sciences programs at Idaho State University. \nAdditionally\, the Interprofessional Education Event on October 4\, 2019 will offer ISU’s Health Sciences students an opportunity to evaluate a case study with hands-on input from faculty and members of the senior community.
URL:https://idahoelderlaw.com/event/12th-annual-isu-thomas-senior-health-and-wellness-symposium-staying-healthy-staying-sharp/
LOCATION:Pocatello Senior Activity Center\, 427 N. 6th Street\, Pocatello\, ID\, 83201\, United States
END:VEVENT
BEGIN:VEVENT
DTSTART;TZID=America/Boise:20190926T183000
DTEND;TZID=America/Boise:20190926T203000
DTSTAMP:20260424T083125
CREATED:20190917T164406Z
LAST-MODIFIED:20190924T195533Z
UID:14381-1569522600-1569529800@idahoelderlaw.com
SUMMARY:Estate Planning Basics: Peace of Mind for Seniors
DESCRIPTION:
URL:https://idahoelderlaw.com/event/peace-of-mind-for-seniors/
LOCATION:Meridian Senior Center\, 1920 N. Records Ave.\, Meridian\, ID\, United States
END:VEVENT
BEGIN:VEVENT
DTSTART;TZID=America/Boise:20190926T080000
DTEND;TZID=America/Boise:20190926T163000
DTSTAMP:20260424T083125
CREATED:20190920T214318Z
LAST-MODIFIED:20190920T214318Z
UID:14397-1569484800-1569515400@idahoelderlaw.com
SUMMARY:IGFA's 2019 Conference
DESCRIPTION:The Idaho Guardians and Fiduciaries Association Annual conference is next week on September 26\, 2019. This is going to be an amazing conference. If you act as the guardian or the power of attorney for a family member\, or if you deal professionally with those who lack capacity\, this conference will be important for you. \nThe conference is Thursday\, September 26th from 8am-4:30 pm. There will be great speakers\, great food\, awesome group of people to network with and 5.5 CEU’s available! Topics will include Special Needs Trusts\, Medical and Legal Capacity\, Business Succession Planning\, Supportive Decision Making\, Fiduciary Responsibilities\, and more. Click here to register for the conference and see the schedule! 
URL:https://idahoelderlaw.com/event/igfas-2019-conference/
LOCATION:Silverstone Plaza\, 3405 E. Overland Road\, Meridian\, ID\, 83642\, United States
END:VEVENT
BEGIN:VEVENT
DTSTART;TZID=America/Boise:20190921T110000
DTEND;TZID=America/Boise:20190921T170000
DTSTAMP:20260424T083125
CREATED:20190729T202727Z
LAST-MODIFIED:20190729T204829Z
UID:14239-1569063600-1569085200@idahoelderlaw.com
SUMMARY:2019 Walk to End Alzheimer's - Magic Valley
DESCRIPTION:Elder Law at Ahrens DeAngeli Law Group will be at the Eastern Idaho\, Magic Valley\, and Treasure Valley Walks. Join our team to walk with us\, or donate to advance care\, support and research towards Alzheimer’s disease here. \nThe Magic Valley event is on September 21\, 2019\, at the College of Southern Idaho in Twin Falls. Registration begins at 10 am\, ceremony at 11 am\, and walk at 11:30 am. If you have questions about the Magic Valley event\, contact Danielle Lyda at dmlyda@alz.org. \nVisit 2019 Walk to End Alzheimer’s – Magic Valley to learn more about the walk\, and the Alzheimer’s Association’s work to end Alzheimer’s.
URL:https://idahoelderlaw.com/event/2019-walk-to-end-alzheimers-magic-valley/
LOCATION:College of Southern Idaho\, 315 Falls Ave\, Twin Falls\, ID\, 83301\, United States
END:VEVENT
BEGIN:VEVENT
DTSTART;TZID=America/Boise:20190914T110000
DTEND;TZID=America/Boise:20190914T170000
DTSTAMP:20260424T083125
CREATED:20190729T190458Z
LAST-MODIFIED:20190729T212347Z
UID:14232-1568458800-1568480400@idahoelderlaw.com
SUMMARY:2019 Walk to End Alzheimer's - Eastern Idaho
DESCRIPTION:Elder Law at Ahrens DeAngeli Law Group will be at the Eastern Idaho\, Magic Valley\, and Treasure Valley Walks. Join our team to walk with us\, or donate to advance care\, support and research towards Alzheimer’s disease here. \nThe Eastern Idaho event is on September 14\, 2019\, at the Snake River Landing – Idaho Falls. Registration begins at 10 am\, ceremony at 11 am\, and walk at 11:30 am. If you have questions about event details\, please contact Alix Hilton at (208)206-0041 or at alhilton@alz.org. \nVisit 2019 Walk to End Alzheimer’s – Eastern Idaho to learn more about the walk\, and the Alzheimer’s Association’s work to end Alzheimer’s.
URL:https://idahoelderlaw.com/event/2019-walk-to-end-alzheimers-eastern-idaho/
LOCATION:Snake River Landing – Idaho Falls\, 901 Pier View Dr\, Idaho Falls\, 83402\, United States
END:VEVENT
BEGIN:VEVENT
DTSTART;TZID=America/Boise:20190910T183000
DTEND;TZID=America/Boise:20190910T203000
DTSTAMP:20260424T083125
CREATED:20190903T173249Z
LAST-MODIFIED:20190903T173249Z
UID:14360-1568140200-1568147400@idahoelderlaw.com
SUMMARY:Pay for Long Term Care Without Going Broke
DESCRIPTION:Joshua Reams will be presenting Pay for Long Term Care Without Going Broke on Tuesday\, September 10 at 6:30 pm. Join us at West Junior High to learn more!
URL:https://idahoelderlaw.com/event/pay-for-long-term-care-without-going-broke/
LOCATION:West Junior High\, 8371 W Salt Creek Ct.\, Boise\, ID\, 83709\, United States
END:VEVENT
BEGIN:VEVENT
DTSTART;TZID=America/Boise:20190910T180000
DTEND;TZID=America/Boise:20190910T190000
DTSTAMP:20260424T083125
CREATED:20190816T212520Z
LAST-MODIFIED:20190903T225621Z
UID:14291-1568138400-1568142000@idahoelderlaw.com
SUMMARY:Legal and Financial Planning for Alzheimer's
DESCRIPTION:David Wilson\, J.D. Elder Law at Ahrens DeAngeli Law Group\, will be speaking on Legal and Financial Planning for Alzheimer’s on September 10\, 2019 at 6:00 pm. The Alzheimer’s Association is hosting this community education seminar through the Boise City Library. It is located at the Bown Crossing Library. \nJoin us to learn about the important steps to take if Alzheimer’s affects you or a loved one! RSVP to Danielle Worthy at dworthy@cityofboise.org. \n 
URL:https://idahoelderlaw.com/event/legal-and-financial-planning-for-alzheimers/
LOCATION:Bown Crossing Boise City Library\, 2153 E Riverwalk Dr\, Boise\, Idaho\, 83706
END:VEVENT
BEGIN:VEVENT
DTSTART;TZID=America/Boise:20190815T160000
DTEND;TZID=America/Boise:20190815T170000
DTSTAMP:20260424T083125
CREATED:20190809T184836Z
LAST-MODIFIED:20190809T185457Z
UID:14258-1565884800-1565888400@idahoelderlaw.com
SUMMARY:Medicaid Presentation - Senior Services Networking Meeting
DESCRIPTION:Michelle Triplett\, J.D. Elder Law at Ahrens DeAngeli Law Group\, will be speaking on Medicaid on August 15\, 2019 at 4:00 pm. This event is a part of the Senior Services Networking Meeting through the Eastern Idaho Community Action Partnership. \nThis event is open to professionals who provide services to seniors. Please e-mail Eastern Idaho Community Action Partnership at info@eicap.org\, or call 208-522-5391 for more information.
URL:https://idahoelderlaw.com/event/medicaid-presentation-senior-services-networking-meeting/
LOCATION:Eastern Idaho Community Action Partnership\, 935 E Lincoln Rd\, Idaho Falls\, ID\, 83401\, United States
CATEGORIES:Medicaid
ORGANIZER;CN="Eastern Idaho Community Action Partnership":MAILTO:info@eicap.org
END:VEVENT
BEGIN:VEVENT
DTSTART;TZID=America/Boise:20170605T183000
DTEND;TZID=America/Boise:20170605T193000
DTSTAMP:20260424T083125
CREATED:20170508T192110Z
LAST-MODIFIED:20170508T192411Z
UID:14038-1496687400-1496691000@idahoelderlaw.com
SUMMARY:"Caring for the Caregiver" FREE support group for Family Caregivers\, First Monday of each month from 6:30-7:30 PM
DESCRIPTION:
URL:https://idahoelderlaw.com/event/14038/
LOCATION:Maui Mowi Coffee Shop\, 520 E. Franklin Road #105\, Meridian\, ID\, 83642\, United States
END:VEVENT
BEGIN:VEVENT
DTSTART;TZID=America/Boise:20170603T090000
DTEND;TZID=America/Boise:20170603T151500
DTSTAMP:20260424T083125
CREATED:20170512T030539Z
LAST-MODIFIED:20170512T031435Z
UID:14042-1496480400-1496502900@idahoelderlaw.com
SUMMARY:Dementia Family Caregiver Conference
DESCRIPTION:
URL:https://idahoelderlaw.com/event/14042/
LOCATION:College of Idaho/ Langroise Center\,  2112 Cleveland Blvd\, \, Caldwell\, ID\, 83605\, United States
END:VEVENT
BEGIN:VEVENT
DTSTART;TZID=America/Boise:20170421T083000
DTEND;TZID=America/Boise:20170421T120000
DTSTAMP:20260424T083125
CREATED:20170320T223328Z
LAST-MODIFIED:20170406T215640Z
UID:14023-1492763400-1492776000@idahoelderlaw.com
SUMMARY:Continuing Education: Helping Patients and Residents Qualify for VA and Medicaid Benefits to Pay for Long Term Care
DESCRIPTION: 
URL:https://idahoelderlaw.com/event/continuing-education-helping-patients-and-residents-qualify-for-va-and-medicaid-benefits-to-pay-for-long-term-care-4/
LOCATION:Marriott Courtyard\, 1789 S. Eagle Road\, Meridian\, ID\, 83642\, United States
END:VEVENT
BEGIN:VEVENT
DTSTART;TZID=America/Boise:20170414T083000
DTEND;TZID=America/Boise:20170414T120000
DTSTAMP:20260424T083125
CREATED:20170320T223121Z
LAST-MODIFIED:20170320T223121Z
UID:14022-1492158600-1492171200@idahoelderlaw.com
SUMMARY:Continuing Education: Helping Patients and Residents Qualify for VA and Medicaid Benefits to Pay for Long Term Care
DESCRIPTION:
URL:https://idahoelderlaw.com/event/continuing-education-helping-patients-and-residents-qualify-for-va-and-medicaid-benefits-to-pay-for-long-term-care-3/
LOCATION:Residence Inn Idaho Falls\, 635 West Broadway\, Idaho Falls\, ID\, 83402\, United States
END:VEVENT
BEGIN:VEVENT
DTSTART;TZID=America/Boise:20170413T100000
DTEND;TZID=America/Boise:20170413T143000
DTSTAMP:20260424T083125
CREATED:20170320T221337Z
LAST-MODIFIED:20170320T221337Z
UID:14015-1492077600-1492093800@idahoelderlaw.com
SUMMARY:SMART: Live Life Smarter
DESCRIPTION:
URL:https://idahoelderlaw.com/event/smart-live-life-smarter/
LOCATION:West Ada School District Building\, 1303 E Central Dr\, Meridian\, ID\, 83642\, United States
END:VEVENT
BEGIN:VEVENT
DTSTART;TZID=America/Boise:20170413T083000
DTEND;TZID=America/Boise:20170413T120000
DTSTAMP:20260424T083125
CREATED:20170320T222934Z
LAST-MODIFIED:20170320T222934Z
UID:14020-1492072200-1492084800@idahoelderlaw.com
SUMMARY:Continuing Education: Helping Patients and Residents Qualify for VA and Medicaid Benefits to Pay for Long Term Care
DESCRIPTION:
URL:https://idahoelderlaw.com/event/continuing-education-helping-patients-and-residents-qualify-for-va-and-medicaid-benefits-to-pay-for-long-term-care-2/
LOCATION:Twin Falls Fairfield Inn\, 1788 Washington Street North\, Twin Falls\, ID\, 83301\, United States
END:VEVENT
END:VCALENDAR